BEGIN:VCALENDAR
VERSION:2.0
PRODID:-//wp-events-plugin.com//7.2.3.1//EN
TZID:America/Chicago
X-WR-TIMEZONE:America/Chicago
BEGIN:VEVENT
UID:1066@biav.org
DTSTART;TZID=America/Chicago:20240324T000000
DTEND;TZID=America/Chicago:20240324T000000
DTSTAMP:20240322T162806Z
URL:https://www.biav.org/events/youth-purim-magic-show-and-sugar-cereal-se
 udah/
SUMMARY:Youth Purim Magic Show and Sugar Cereal Seudah
DESCRIPTION:Pre-registration is closed\, but feel free to join the fun afte
 r the Megillah reading.\n\n[gravityform id="57" title="false" description=
 "false"]
ATTACH;FMTTYPE=image/jpeg:https://www.biav.org/wp-content/uploads/2024/03/
 HiRes-269x300-1.jpg
CATEGORIES:Featured Events
END:VEVENT
BEGIN:VTIMEZONE
TZID:America/Chicago
X-LIC-LOCATION:America/Chicago
BEGIN:DAYLIGHT
DTSTART:20240310T030000
TZOFFSETFROM:-0600
TZOFFSETTO:-0500
TZNAME:CDT
END:DAYLIGHT
END:VTIMEZONE
END:VCALENDAR