BEGIN:VCALENDAR
VERSION:2.0
PRODID:-//wp-events-plugin.com//7.2.3.1//EN
TZID:America/Chicago
X-WR-TIMEZONE:America/Chicago
BEGIN:VEVENT
UID:1131@biav.org
DTSTART;TZID=America/Chicago:20241020T193000
DTEND;TZID=America/Chicago:20241020T210000
DTSTAMP:20240920T184021Z
URL:https://www.biav.org/events/the-melting-hut-an-adults-fondue-and-board
 -game-night-in-the-sukkah/
SUMMARY:The Melting Hut! An adults' fondue and board game night in the Sukk
 ah
DESCRIPTION:\n\none form per person or couple\, please\n\n[gravityform id="
 59" title="false" description="false"]
ATTACH;FMTTYPE=image/jpeg:https://www.biav.org/wp-content/uploads/2024/09/
 Melting-Hut--e1726857211203.png
CATEGORIES:Featured Events
END:VEVENT
BEGIN:VTIMEZONE
TZID:America/Chicago
X-LIC-LOCATION:America/Chicago
BEGIN:DAYLIGHT
DTSTART:20240310T030000
TZOFFSETFROM:-0600
TZOFFSETTO:-0500
TZNAME:CDT
END:DAYLIGHT
END:VTIMEZONE
END:VCALENDAR