BEGIN:VCALENDAR
VERSION:2.0
PRODID:-//wp-events-plugin.com//7.2.3.1//EN
TZID:America/Chicago
X-WR-TIMEZONE:America/Chicago
BEGIN:VEVENT
UID:1063@biav.org
DTSTART;TZID=America/Chicago:20240302T163000
DTEND;TZID=America/Chicago:20240302T163000
DTSTAMP:20240212T161736Z
URL:https://www.biav.org/events/special-shiur-series-the-halakhic-tightrop
 e-fundamental-principles-of-the-modern-day-eruv-2024-03-02/
SUMMARY:Special Shiur series - ”The Halakhic Tightrope– Fundamental Pri
 nciples of the Modern-Day Eruv”
DESCRIPTION:February 17\, 4:20 PM\n\nFebruary 24\, 4:25 PM\n\nMarch 2\, 4:3
 5 PM
ATTACH;FMTTYPE=image/jpeg:https://www.biav.org/wp-content/uploads/2024/02/
 WEB-Eruv-Shiur-e1707754547626.png
CATEGORIES:Featured Events
END:VEVENT
BEGIN:VTIMEZONE
TZID:America/Chicago
X-LIC-LOCATION:America/Chicago
BEGIN:STANDARD
DTSTART:20231105T010000
TZOFFSETFROM:-0500
TZOFFSETTO:-0600
TZNAME:CST
END:STANDARD
END:VTIMEZONE
END:VCALENDAR