BEGIN:VCALENDAR
VERSION:2.0
PRODID:-//wp-events-plugin.com//7.2.3.1//EN
TZID:America/Chicago
X-WR-TIMEZONE:America/Chicago
BEGIN:VEVENT
UID:1247@biav.org
DTSTART;TZID=America/Chicago:20251015T123000
DTEND;TZID=America/Chicago:20251015T123000
DTSTAMP:20250922T151654Z
URL:https://www.biav.org/events/simchat-torah-luncheon-3/
SUMMARY:Simchat Torah luncheon
DESCRIPTION:Join us for a Simchat Torah lunch following morning services.\n
 \n[gravityform id="56" title="false" description="false"]\n\n&nbsp\;\n\n&n
 bsp\;
ATTACH;FMTTYPE=image/jpeg:https://www.biav.org/wp-content/uploads/2025/08/
 httpswww.biav_.orgeventssimchat-torah-luncheon-3-1-e1758554205191.png
CATEGORIES:Featured Events
END:VEVENT
BEGIN:VTIMEZONE
TZID:America/Chicago
X-LIC-LOCATION:America/Chicago
BEGIN:DAYLIGHT
DTSTART:20250309T030000
TZOFFSETFROM:-0600
TZOFFSETTO:-0500
TZNAME:CDT
END:DAYLIGHT
END:VTIMEZONE
END:VCALENDAR