BEGIN:VCALENDAR
VERSION:2.0
PRODID:-//wp-events-plugin.com//7.2.3.1//EN
TZID:America/Chicago
X-WR-TIMEZONE:America/Chicago
BEGIN:VEVENT
UID:1130@biav.org
DTSTART;TZID=America/Chicago:20241025T123000
DTEND;TZID=America/Chicago:20241025T123000
DTSTAMP:20240913T144918Z
URL:https://www.biav.org/events/simchat-torah-luncheon-2/
SUMMARY:Simchat Torah luncheon
DESCRIPTION:Join us for a Simchat Torah lunch following services.\n\n\n\n&n
 bsp\;\n\n[gravityform id="56" title="false" description="false"]\n\n&nbsp\
 ;
ATTACH;FMTTYPE=image/jpeg:https://www.biav.org/wp-content/uploads/2024/09/
 ST-Lunch-5785-1-e1726238498897.jpg
CATEGORIES:Featured Events
END:VEVENT
BEGIN:VTIMEZONE
TZID:America/Chicago
X-LIC-LOCATION:America/Chicago
BEGIN:DAYLIGHT
DTSTART:20240310T030000
TZOFFSETFROM:-0600
TZOFFSETTO:-0500
TZNAME:CDT
END:DAYLIGHT
END:VTIMEZONE
END:VCALENDAR