BEGIN:VCALENDAR
VERSION:2.0
PRODID:-//wp-events-plugin.com//7.2.3.1//EN
TZID:America/Chicago
X-WR-TIMEZONE:America/Chicago
BEGIN:VEVENT
UID:1250@biav.org
DTSTART;TZID=America/Chicago:20260116T170000
DTEND;TZID=America/Chicago:20260116T200000
DTSTAMP:20251224T180021Z
URL:https://www.biav.org/events/shabbat-dinner/
SUMMARY:Shabbat Dinner
DESCRIPTION:\n\n[gravityform id="78" title="false" description="false"]
ATTACH;FMTTYPE=image/jpeg:https://www.biav.org/wp-content/uploads/2025/12/
 image1-1-e1766598966695.png
CATEGORIES:Featured Events
END:VEVENT
BEGIN:VTIMEZONE
TZID:America/Chicago
X-LIC-LOCATION:America/Chicago
BEGIN:STANDARD
DTSTART:20251102T010000
TZOFFSETFROM:-0500
TZOFFSETTO:-0600
TZNAME:CST
END:STANDARD
END:VTIMEZONE
END:VCALENDAR