BEGIN:VCALENDAR
VERSION:2.0
PRODID:-//wp-events-plugin.com//7.2.3.1//EN
TZID:America/Chicago
X-WR-TIMEZONE:America/Chicago
BEGIN:VEVENT
UID:1065@biav.org
DTSTART;TZID=America/Chicago:20240312T200000
DTEND;TZID=America/Chicago:20240312T200000
DTSTAMP:20240312T131559Z
URL:https://www.biav.org/events/rabbi-glass-shiur-the-mishloach-manot-myth
 /
SUMMARY:Rabbi Glass shiur - The Mishloach Manot Myth
DESCRIPTION:Join Rabbi Glass for this 2-part shiur on March 12 & 19.\n\nCon
 gregation BIAV is inviting you to a scheduled Zoom meeting.\n\nJoin Zoom M
 eeting\nhttps://us02web.zoom.us/j/89322141091?pwd=dWRyNXJoTExuekhHT2RQY0Vi
 VmQ3dz09\n\nMeeting ID: 893 2214 1091\nPasscode: 704030\n\n---\n\nDial by 
 your location\n• +1 719 359 4580 US\n• +1 305 224 1968 US\n• +1 309 
 205 3325 US\n• +1 312 626 6799 US (Chicago)\n\nMeeting ID: 893 2214 1091
 \nPasscode: 704030\n\n
ATTACH;FMTTYPE=image/jpeg:https://www.biav.org/wp-content/uploads/2023/06/
 R-Glass-headshot-2-e1693428384769.jpg
CATEGORIES:Featured Events
END:VEVENT
BEGIN:VTIMEZONE
TZID:America/Chicago
X-LIC-LOCATION:America/Chicago
BEGIN:DAYLIGHT
DTSTART:20240310T030000
TZOFFSETFROM:-0600
TZOFFSETTO:-0500
TZNAME:CDT
END:DAYLIGHT
END:VTIMEZONE
END:VCALENDAR