BEGIN:VCALENDAR
VERSION:2.0
PRODID:-//wp-events-plugin.com//7.2.3.1//EN
TZID:America/Chicago
X-WR-TIMEZONE:America/Chicago
BEGIN:VEVENT
UID:1133@biav.org
DTSTART;TZID=America/Chicago:20241112T200000
DTEND;TZID=America/Chicago:20241112T210000
DTSTAMP:20241107T201444Z
URL:https://www.biav.org/events/rabbi-glass-shiur-series-3/
SUMMARY:Rabbi Glass shiur series
DESCRIPTION:Do I&nbsp\;Really&nbsp\;Need to Torture My Fruits &amp\; Veg?!&
 nbsp\;\n\nhttps://us02web.zoom.us/j/83653959192?pwd=bLn7LLue2bd4kPR1jtIbsV
 BLskIn2P.1\n\nMeeting ID: 836 5395 9192\nPasscode: 915330
ATTACH;FMTTYPE=image/jpeg:https://www.biav.org/wp-content/uploads/2023/06/
 R-Glass-headshot-2-e1693428384769.jpg
CATEGORIES:Featured Events
END:VEVENT
BEGIN:VTIMEZONE
TZID:America/Chicago
X-LIC-LOCATION:America/Chicago
BEGIN:STANDARD
DTSTART:20241103T010000
TZOFFSETFROM:-0500
TZOFFSETTO:-0600
TZNAME:CST
END:STANDARD
END:VTIMEZONE
END:VCALENDAR