BEGIN:VCALENDAR
VERSION:2.0
PRODID:-//wp-events-plugin.com//7.2.3.1//EN
TZID:America/Chicago
X-WR-TIMEZONE:America/Chicago
BEGIN:VEVENT
UID:1072@biav.org
DTSTART;TZID=America/Chicago:20240521T200000
DTEND;TZID=America/Chicago:20240521T200000
DTSTAMP:20240510T154148Z
URL:https://www.biav.org/events/rabbi-glass-shiur-series-2/
SUMMARY:Rabbi Glass - Defining Era of Jewish History shiur series continues
  - The Geonim
DESCRIPTION:
ATTACH;FMTTYPE=image/jpeg:https://www.biav.org/wp-content/uploads/2023/06/
 R-Glass-headshot-2-e1693428384769.jpg
CATEGORIES:Featured Events
END:VEVENT
BEGIN:VTIMEZONE
TZID:America/Chicago
X-LIC-LOCATION:America/Chicago
BEGIN:DAYLIGHT
DTSTART:20240310T030000
TZOFFSETFROM:-0600
TZOFFSETTO:-0500
TZNAME:CDT
END:DAYLIGHT
END:VTIMEZONE
END:VCALENDAR