BEGIN:VCALENDAR
VERSION:2.0
PRODID:-//wp-events-plugin.com//7.2.3.1//EN
TZID:America/Chicago
X-WR-TIMEZONE:America/Chicago
BEGIN:VEVENT
UID:976@biav.org
DTSTART;TZID=America/Chicago:20231219T200000
DTEND;TZID=America/Chicago:20231219T200000
DTSTAMP:20231218T181321Z
URL:https://www.biav.org/events/rabbi-glass-shiur-addressing-halakhic-and-
 hashkafic-perspectives-on-jews-at-war/
SUMMARY:Rabbi Glass shiur - addressing halakhic and hashkafic perspectives 
 on Jews at war
DESCRIPTION:The 2nd part of this series will take place in person on Shabba
 t at 4:15 PM\n\n
ATTACH;FMTTYPE=image/jpeg:https://www.biav.org/wp-content/uploads/2023/06/
 R-Glass-headshot-2-e1693428384769.jpg
END:VEVENT
BEGIN:VTIMEZONE
TZID:America/Chicago
X-LIC-LOCATION:America/Chicago
BEGIN:STANDARD
DTSTART:20231105T010000
TZOFFSETFROM:-0500
TZOFFSETTO:-0600
TZNAME:CST
END:STANDARD
END:VTIMEZONE
END:VCALENDAR