BEGIN:VCALENDAR
VERSION:2.0
PRODID:-//wp-events-plugin.com//7.2.3.1//EN
TZID:America/Chicago
X-WR-TIMEZONE:America/Chicago
BEGIN:VEVENT
UID:1244@biav.org
DTSTART;TZID=America/Chicago:20250405T163000
DTEND;TZID=America/Chicago:20250405T180000
DTSTAMP:20250327T211251Z
URL:https://www.biav.org/events/rabbi-glass-shabbat-hagadol-derasha/
SUMMARY:Rabbi Glass' Shabbat Hagadol Derasha
DESCRIPTION:Topic:\n\nOUR OBLIGATION TO COMMEMORATE OUR EXODUS\nWITH A SEDE
 R IS ILLOGICAL\nAND WHY THAT TRANSFORMS OUR ENTIRE PESAḤ\n\nBabysitting 
 will be available.
ATTACH;FMTTYPE=image/jpeg:https://www.biav.org/wp-content/uploads/2020/12/
 talmud-shtender-bookshelf-library-2-e1616514460300.jpg
CATEGORIES:Featured Events
END:VEVENT
BEGIN:VTIMEZONE
TZID:America/Chicago
X-LIC-LOCATION:America/Chicago
BEGIN:DAYLIGHT
DTSTART:20250309T030000
TZOFFSETFROM:-0600
TZOFFSETTO:-0500
TZNAME:CDT
END:DAYLIGHT
END:VTIMEZONE
END:VCALENDAR