BEGIN:VCALENDAR
VERSION:2.0
PRODID:-//wp-events-plugin.com//7.2.3.1//EN
TZID:America/Chicago
X-WR-TIMEZONE:America/Chicago
BEGIN:VEVENT
UID:1165@biav.org
DTSTART;TZID=America/Chicago:20241113T121500
DTEND;TZID=America/Chicago:20241113T131500
DTSTAMP:20241107T205545Z
URL:https://www.biav.org/events/rabbi-glass-qontroversial-questions-on-the
 -parashah/
SUMMARY:Rabbi Glass – ’Qontroversial Questions on the Parashah’ 
DESCRIPTION:"The Great Rabbis Who Believed Angels Can’t Possibly Exist"\n
 \nConference Room B at the JCC
ATTACH;FMTTYPE=image/jpeg:https://www.biav.org/wp-content/uploads/2023/06/
 R-Glass-headshot-2-e1693428384769.jpg
CATEGORIES:Featured Events
END:VEVENT
BEGIN:VTIMEZONE
TZID:America/Chicago
X-LIC-LOCATION:America/Chicago
BEGIN:STANDARD
DTSTART:20241103T010000
TZOFFSETFROM:-0500
TZOFFSETTO:-0600
TZNAME:CST
END:STANDARD
END:VTIMEZONE
END:VCALENDAR