BEGIN:VCALENDAR
VERSION:2.0
PRODID:-//wp-events-plugin.com//7.2.3.1//EN
TZID:America/Chicago
X-WR-TIMEZONE:America/Chicago
BEGIN:VEVENT
UID:940@biav.org
DTSTART;TZID=America/Chicago:20240929T103000
DTEND;TZID=America/Chicago:20240929T113000
DTSTAMP:20240923T202452Z
URL:https://www.biav.org/events/pre-rosh-hashanah-youth-event/
SUMMARY:Pre- Rosh Hashanah Youth Event
DESCRIPTION:Crafts and fun to get ready for Rosh Hashanah!\n\nAdult supervi
 sion recommended\; teen volunteers welcome. Suggested donation $5/child. R
 SVP to youthdirector@biav.org with names and ages of the kids attending by
  September 25.\n\n&nbsp\;
ATTACH;FMTTYPE=image/jpeg:https://www.biav.org/wp-content/uploads/2023/08/
 rh-e1727123084965.webp
CATEGORIES:Featured Events
END:VEVENT
BEGIN:VTIMEZONE
TZID:America/Chicago
X-LIC-LOCATION:America/Chicago
BEGIN:DAYLIGHT
DTSTART:20240310T030000
TZOFFSETFROM:-0600
TZOFFSETTO:-0500
TZNAME:CDT
END:DAYLIGHT
END:VTIMEZONE
END:VCALENDAR