BEGIN:VCALENDAR
VERSION:2.0
PRODID:-//wp-events-plugin.com//7.2.3.1//EN
TZID:America/Chicago
X-WR-TIMEZONE:America/Chicago
BEGIN:VEVENT
UID:1243@biav.org
DTSTART;TZID=America/Chicago:20250406T123000
DTEND;TZID=America/Chicago:20250406T143000
DTSTAMP:20250327T201413Z
URL:https://www.biav.org/events/pre-pesach-youth-party/
SUMMARY:Pre-Pesach Youth Party
DESCRIPTION:Join your BIAV friends for a Pre-Pesach Kids Party filled with 
 fun\, laughter\, and creativity! Enjoy an afternoon of exciting outdoor ga
 mes\, mesmerizing bubble tricks from the Bubble Guy\, and an amazing magic
  show with Reggie Reg the Magician. Kids can also unleash their artistic t
 alents with Pesach-themed arts and crafts. There will be plenty of&nbsp\; 
 treats for all to enjoy! Drop off your kids for a couple hours\, and finis
 h up last minute preparations!\n&nbsp\;\nSunday April 6th from 12:30- 2:30
 \n$5 per kid\nMust RSVP by Thursday April 3rd\nVolunteers needed\n\n\n[gra
 vityform id="69" title="true" description="false"]
CATEGORIES:Featured Events
END:VEVENT
BEGIN:VTIMEZONE
TZID:America/Chicago
X-LIC-LOCATION:America/Chicago
BEGIN:DAYLIGHT
DTSTART:20250309T030000
TZOFFSETFROM:-0600
TZOFFSETTO:-0500
TZNAME:CDT
END:DAYLIGHT
END:VTIMEZONE
END:VCALENDAR