BEGIN:VCALENDAR
VERSION:2.0
PRODID:-//wp-events-plugin.com//7.2.3.1//EN
TZID:America/Chicago
X-WR-TIMEZONE:America/Chicago
BEGIN:VEVENT
UID:1067@biav.org
DTSTART;TZID=America/Chicago:20240414T100000
DTEND;TZID=America/Chicago:20240414T120000
DTSTAMP:20240404T191203Z
URL:https://www.biav.org/events/pre-pesach-movie-drop-off-for-youth/
SUMMARY:Pre-Pesach Movie Drop-off for Youth
DESCRIPTION:2 hours of Pesach Preparations while the kids* hang out and wat
 ch a movie.&nbsp\;\n\n*Kids younger than kindergarten need to be supervise
 d by a parent.\n\n[gravityform id="57" title="false" description="false"]
ATTACH;FMTTYPE=image/jpeg:https://www.biav.org/wp-content/uploads/2024/04/
 movie-e1712257486437.jpg
CATEGORIES:Featured Events
END:VEVENT
BEGIN:VTIMEZONE
TZID:America/Chicago
X-LIC-LOCATION:America/Chicago
BEGIN:DAYLIGHT
DTSTART:20240310T030000
TZOFFSETFROM:-0600
TZOFFSETTO:-0500
TZNAME:CDT
END:DAYLIGHT
END:VTIMEZONE
END:VCALENDAR