BEGIN:VCALENDAR
VERSION:2.0
PRODID:-//wp-events-plugin.com//7.2.3.1//EN
TZID:America/Chicago
X-WR-TIMEZONE:America/Chicago
BEGIN:VEVENT
UID:1064@biav.org
DTSTART;TZID=America/Chicago:20240418T180000
DTEND;TZID=America/Chicago:20240418T200000
DTSTAMP:20240408T194046Z
URL:https://www.biav.org/events/pre-pesach-chinese-buffet/
SUMMARY:Pre-Pesach Chinese Buffet
DESCRIPTION:Join BIAV for an evening of Kosher Chinese Food!\n\nOne of Bo L
 ing's chefs\, under Vaad Supervision\, is making a Kosher Chinese Food buf
 fet at BIAV.\n\nRSVPs are required\, and tickets are $18.00 per person wit
 h a family max of $60. Sponsorships are also available.\n\nContact Alexa R
 osenberg\, VP Programming with any questions: ajrosenberg90@gmail.com\n\n[
 gravityform id="61" title="false" description="false"]
ATTACH;FMTTYPE=image/jpeg:https://www.biav.org/wp-content/uploads/2024/03/
 PHOTO-2024-03-13-08-21-37-e1710337516898.jpg
CATEGORIES:Featured Events
END:VEVENT
BEGIN:VTIMEZONE
TZID:America/Chicago
X-LIC-LOCATION:America/Chicago
BEGIN:DAYLIGHT
DTSTART:20240310T030000
TZOFFSETFROM:-0600
TZOFFSETTO:-0500
TZNAME:CDT
END:DAYLIGHT
END:VTIMEZONE
END:VCALENDAR