BEGIN:VCALENDAR
VERSION:2.0
PRODID:-//wp-events-plugin.com//7.2.3.1//EN
TZID:America/Chicago
X-WR-TIMEZONE:America/Chicago
BEGIN:VEVENT
UID:1126@biav.org
DTSTART;TZID=America/Chicago:20240917T200000
DTEND;TZID=America/Chicago:20240917T200000
DTSTAMP:20240909T142654Z
URL:https://www.biav.org/events/prayer-repentance-charity-remove-the-evil-
 decree-preparing-for-yamim-noraim-following-a-year-of-roa-gezeira/
SUMMARY:Prayer\, Repentance\, & Charity Remove the Evil Decree - Preparing 
 for  Yamim Noraim following a year of Ro'a Gezeira
DESCRIPTION:See Shiur Series Flyer
ATTACH;FMTTYPE=image/jpeg:https://www.biav.org/wp-content/uploads/2023/06/
 R-Glass-headshot-2-e1693428384769.jpg
CATEGORIES:Featured Events
END:VEVENT
BEGIN:VTIMEZONE
TZID:America/Chicago
X-LIC-LOCATION:America/Chicago
BEGIN:DAYLIGHT
DTSTART:20240310T030000
TZOFFSETFROM:-0600
TZOFFSETTO:-0500
TZNAME:CDT
END:DAYLIGHT
END:VTIMEZONE
END:VCALENDAR