BEGIN:VCALENDAR
VERSION:2.0
PRODID:-//wp-events-plugin.com//7.2.3.1//EN
TZID:America/Chicago
X-WR-TIMEZONE:America/Chicago
BEGIN:VEVENT
UID:1248@biav.org
DTSTART;TZID=America/Chicago:20251213T183000
DTEND;TZID=America/Chicago:20251213T200000
DTSTAMP:20251119T162716Z
URL:https://www.biav.org/events/motzi-shabbat-youth-chanukah-party/
SUMMARY:Motzi Shabbat Youth Chanukah party
DESCRIPTION:
ATTACH;FMTTYPE=image/jpeg:https://www.biav.org/wp-content/uploads/2023/11/
 donut-and-dreidel-pic-e1701274078249.jpg
CATEGORIES:Featured Events
END:VEVENT
BEGIN:VTIMEZONE
TZID:America/Chicago
X-LIC-LOCATION:America/Chicago
BEGIN:STANDARD
DTSTART:20251102T010000
TZOFFSETFROM:-0500
TZOFFSETTO:-0600
TZNAME:CST
END:STANDARD
END:VTIMEZONE
END:VCALENDAR