BEGIN:VCALENDAR
VERSION:2.0
PRODID:-//wp-events-plugin.com//7.2.3.1//EN
TZID:America/Chicago
X-WR-TIMEZONE:America/Chicago
BEGIN:VEVENT
UID:1245@biav.org
DTSTART;TZID=America/Chicago:20250518T171500
DTEND;TZID=America/Chicago:20250518T184500
DTSTAMP:20250410T174352Z
URL:https://www.biav.org/events/cong-mtg-chinese-buffet-2025/
SUMMARY:Congregational Meeting followed by Chinese Buffet
DESCRIPTION:At 5:15 PM\, join BIAV's Congregational Meeting in the Kiddush 
 Room to elect our Board and Officers for the next year\, followed by a del
 icious dinner of Kosher Chinese Food - gym doors open at 5:30 PM after the
  meeting! Mincha will be at 6:45 PM.\n\nBo Ling's chefs\, under Vaad Super
 vision\, are again making a Kosher Chinese Food buffet at BIAV.\n\nRSVPs a
 re required\, and tickets are $18.00 per adult and $12.00 per child. Spons
 orships are also available.\n\nContact Tammy Sandler\, VP Programming with
  any questions: programming@biav.org\n\n[gravityform id="61" title="false"
  description="false"]
ATTACH;FMTTYPE=image/jpeg:https://www.biav.org/wp-content/uploads/2025/04/
 image0-e1744298026913.png
CATEGORIES:Featured Events
END:VEVENT
BEGIN:VTIMEZONE
TZID:America/Chicago
X-LIC-LOCATION:America/Chicago
BEGIN:DAYLIGHT
DTSTART:20250309T030000
TZOFFSETFROM:-0600
TZOFFSETTO:-0500
TZNAME:CDT
END:DAYLIGHT
END:VTIMEZONE
END:VCALENDAR