BEGIN:VCALENDAR
VERSION:2.0
PRODID:-//wp-events-plugin.com//7.2.3.1//EN
TZID:America/Chicago
X-WR-TIMEZONE:America/Chicago
BEGIN:VEVENT
UID:1166@biav.org
DTSTART;TZID=America/Chicago:20241229T163000
DTEND;TZID=America/Chicago:20241229T183000
DTSTAMP:20241126T213518Z
URL:https://www.biav.org/events/biav-youth-and-family-hanukkah-party-enter
 tainment-and-dinner/
SUMMARY:BIAV Youth and Family Hanukkah Party - entertainment and dinner
DESCRIPTION:[gravityform id="68" title="true" description="true"]
ATTACH;FMTTYPE=image/jpeg:https://www.biav.org/wp-content/uploads/2024/11/
 Hanukkah-party-e1732656012585.jpg
CATEGORIES:Featured Events
END:VEVENT
BEGIN:VTIMEZONE
TZID:America/Chicago
X-LIC-LOCATION:America/Chicago
BEGIN:STANDARD
DTSTART:20241103T010000
TZOFFSETFROM:-0500
TZOFFSETTO:-0600
TZNAME:CST
END:STANDARD
END:VTIMEZONE
END:VCALENDAR