BEGIN:VCALENDAR
VERSION:2.0
PRODID:-//wp-events-plugin.com//7.2.3.1//EN
TZID:America/Chicago
X-WR-TIMEZONE:America/Chicago
BEGIN:VEVENT
UID:1239@biav.org
DTSTART;TZID=America/Chicago:20250210T184500
DTEND;TZID=America/Chicago:20250210T203000
DTSTAMP:20250109T225928Z
URL:https://www.biav.org/events/biav-tu-bshvat-paint-night/
SUMMARY:BIAV Tu B'Shvat Paint Night
DESCRIPTION:\n\n[gravityform id="70" title="false" description="true"]\n\n&
 nbsp\;
ATTACH;FMTTYPE=image/jpeg:https://www.biav.org/wp-content/uploads/2025/01/
 paint-night-1-e1736463420401.png
CATEGORIES:Featured Events
END:VEVENT
BEGIN:VTIMEZONE
TZID:America/Chicago
X-LIC-LOCATION:America/Chicago
BEGIN:STANDARD
DTSTART:20241103T010000
TZOFFSETFROM:-0500
TZOFFSETTO:-0600
TZNAME:CST
END:STANDARD
END:VTIMEZONE
END:VCALENDAR