BEGIN:VCALENDAR
VERSION:2.0
PRODID:-//wp-events-plugin.com//7.2.3.1//EN
TZID:America/Chicago
X-WR-TIMEZONE:America/Chicago
BEGIN:VEVENT
UID:977@biav.org
DTSTART;TZID=America/Chicago:20240107T110000
DTEND;TZID=America/Chicago:20240107T130000
DTSTAMP:20231226T161851Z
URL:https://www.biav.org/events/biav-israeli-fair/
SUMMARY:BIAV Israeli Fair
DESCRIPTION:[gravityform id="60" title="true" description="true"]
ATTACH;FMTTYPE=image/jpeg:https://www.biav.org/wp-content/uploads/2023/12/
 PHOTO-2023-12-23-16-19-05-e1703607517956.jpg
CATEGORIES:Featured Events
END:VEVENT
BEGIN:VTIMEZONE
TZID:America/Chicago
X-LIC-LOCATION:America/Chicago
BEGIN:STANDARD
DTSTART:20231105T010000
TZOFFSETFROM:-0500
TZOFFSETTO:-0600
TZNAME:CST
END:STANDARD
END:VTIMEZONE
END:VCALENDAR