BEGIN:VCALENDAR
VERSION:2.0
PRODID:-//wp-events-plugin.com//7.2.3.1//EN
TZID:America/Chicago
X-WR-TIMEZONE:America/Chicago
BEGIN:VEVENT
UID:1132@biav.org
DTSTART;TZID=America/Chicago:20241225T194500
DTEND;TZID=America/Chicago:20241225T223000
DTSTAMP:20241227T133518Z
URL:https://www.biav.org/events/2024panoply/
SUMMARY:POSTPONED: 5th non-Annual Trivia Night Fundraiser: Panoply
DESCRIPTION:Doughnuts in the Fryer\, Latkes in the Pan-oply: BIAV Trivia Ex
 travaganza\nSO\, WHAT IS PANOPLY???\nPanoply is a fun but competitive mult
 imedia\, multi-sensational\, fast-paced\, trivia and competition game\, in
  which pre-arranged teams\, seated together at individual tables\, answer 
 questions on a broad range of topics\, in a variety of formats - Geography
 \, Literature\, Science\, Torah\, History (World\, American and Jewish)\, 
 Sports\, Art\, Pop Culture and much\, much more!\nTrivia not your thing? T
 hat's ok! There will also be competitive games\, riddles\, and puzzles as 
 part of the event\, as well!&nbsp\;\n\nWinners will receive exciting prize
 s --- and of course\, total bragging rights!\n\nCapacity is limited\n\n 	\
 n\n 	Dairy Snacks and drinks will be provided\n 	You are are welcome to br
 ing wine or beer as long as the wine is mevushal and the beer is listed as
  kosher on the star-k website.&nbsp\;https://www.stark.org/resource/list/P
 CW0Z0DO/Beer\,_Liquor_and_Liqueur\n\n\n\nStill not sure it's your thing?&n
 bsp\;We're happy to have volunteers helping at the event!&nbsp\;Enjoy the 
 fun environment while not competing yourself. Let us know if you'd like to
  volunteer!\n\nAdditional sponsorship opportunities are available. Contact
  the BIAV office for more information: 913-341-2444 or&nbsp\;office@biav.o
 rg.\n\n[gravityform id="66" title="false" description="false"]\n\n&nbsp\;
ATTACH;FMTTYPE=image/jpeg:https://www.biav.org/wp-content/uploads/2024/11/
 image0-1.png
CATEGORIES:Featured Events
LOCATION:Congregation Beth Israel Abraham and Voliner\, 9900 Antioch Road\,
  Overland Park\, KS\, 66212\, United States
X-APPLE-STRUCTURED-LOCATION;VALUE=URI;X-ADDRESS=9900 Antioch Road\, Overlan
 d Park\, KS\, 66212\, United States;X-APPLE-RADIUS=100;X-TITLE=Congregatio
 n Beth Israel Abraham and Voliner:geo:0,0
END:VEVENT
BEGIN:VTIMEZONE
TZID:America/Chicago
X-LIC-LOCATION:America/Chicago
BEGIN:STANDARD
DTSTART:20241103T010000
TZOFFSETFROM:-0500
TZOFFSETTO:-0600
TZNAME:CST
END:STANDARD
END:VTIMEZONE
END:VCALENDAR