BEGIN:VCALENDAR
VERSION:2.0
PRODID:-//wp-events-plugin.com//7.2.3.1//EN
TZID:America/Chicago
X-WR-TIMEZONE:America/Chicago
BEGIN:VEVENT
UID:1238@biav.org
DTSTART;TZID=America/Chicago:20250302T184500
DTEND;TZID=America/Chicago:20250302T213000
DTSTAMP:20250212T163833Z
URL:https://www.biav.org/events/03022025-panoply/
SUMMARY:BIAV Shushan Showdown: Panoply Trivia Night
DESCRIPTION:SO\, WHAT IS PANOPLY???\nPanoply is a fun but competitive multi
 media\, multi-sensational\, fast-paced\, trivia and competition game\, in 
 which pre-arranged teams\, seated together at individual tables\, answer q
 uestions on a broad range of topics\, in a variety of formats - Geography\
 , Literature\, Science\, Torah\, History (World\, American and Jewish)\, S
 ports\, Art\, Pop Culture and much\, much more!\nTrivia not your thing? Th
 at's ok! There will also be competitive games\, riddles\, and puzzles as p
 art of the event\, as well!&nbsp\;\n\nWinners will receive exciting prizes
  --- and of course\, total bragging rights!\n\nStill not sure it's your th
 ing?&nbsp\;We're happy to have volunteers helping at the event!&nbsp\;Enjo
 y the fun environment while not competing yourself. Let us know if you'd l
 ike to volunteer!\n\nAdditional sponsorship opportunities are available. C
 ontact the BIAV office for more information: 913-341-2444 or&nbsp\;office@
 biav.org.\n\n[gravityform id="66" title="false" description="false"]\n\n&n
 bsp\;
ATTACH;FMTTYPE=image/jpeg:https://www.biav.org/wp-content/uploads/2025/01/
 Panoply-e1736460548304.png
CATEGORIES:Featured Events
LOCATION:Congregation Beth Israel Abraham and Voliner\, 9900 Antioch Road\,
  Overland Park\, KS\, 66212\, United States
X-APPLE-STRUCTURED-LOCATION;VALUE=URI;X-ADDRESS=9900 Antioch Road\, Overlan
 d Park\, KS\, 66212\, United States;X-APPLE-RADIUS=100;X-TITLE=Congregatio
 n Beth Israel Abraham and Voliner:geo:0,0
END:VEVENT
BEGIN:VTIMEZONE
TZID:America/Chicago
X-LIC-LOCATION:America/Chicago
BEGIN:STANDARD
DTSTART:20241103T010000
TZOFFSETFROM:-0500
TZOFFSETTO:-0600
TZNAME:CST
END:STANDARD
END:VTIMEZONE
END:VCALENDAR